BEGIN:VCALENDAR
VERSION:2.0
PRODID:-//GalleryCafe OKi - ECPv6.15.18//NONSGML v1.0//EN
CALSCALE:GREGORIAN
METHOD:PUBLISH
X-WR-CALNAME:GalleryCafe OKi
X-ORIGINAL-URL:http://www.gallerycafeoki.com
X-WR-CALDESC:GalleryCafe OKi 이벤트
REFRESH-INTERVAL;VALUE=DURATION:PT1H
X-Robots-Tag:noindex
X-PUBLISHED-TTL:PT1H
BEGIN:VTIMEZONE
TZID:Asia/Seoul
BEGIN:STANDARD
TZOFFSETFROM:+0900
TZOFFSETTO:+0900
TZNAME:KST
DTSTART:20240101T000000
END:STANDARD
END:VTIMEZONE
BEGIN:VEVENT
DTSTART;VALUE=DATE:20251103
DTEND;VALUE=DATE:20251117
DTSTAMP:20260422T231211
CREATED:20260322T135538Z
LAST-MODIFIED:20260322T135538Z
UID:3506-1762160400-1763283599@www.gallerycafeoki.com
SUMMARY:[여행자의 노트No.29] 한빈 _ 명상하듯 걸었던 나의 산티아고 길에서
DESCRIPTION:
URL:http://www.gallerycafeoki.com/event/%ec%97%ac%ed%96%89%ec%9e%90%ec%9d%98-%eb%85%b8%ed%8a%b8no-29-%ed%95%9c%eb%b9%88-_-%eb%aa%85%ec%83%81%ed%95%98%eb%93%af-%ea%b1%b8%ec%97%88%eb%8d%98-%eb%82%98%ec%9d%98-%ec%82%b0%ed%8b%b0%ec%95%84/
LOCATION:옥키 OKi\, 서울특별시 중구 삼일대로4길 19 2층 갤러리카페옥키\, 서울\, seoul\, 04553\, Korea\, Republic of
END:VEVENT
END:VCALENDAR