BEGIN:VCALENDAR
VERSION:2.0
PRODID:-//GalleryCafe OKi - ECPv6.15.18//NONSGML v1.0//EN
CALSCALE:GREGORIAN
METHOD:PUBLISH
X-ORIGINAL-URL:http://www.gallerycafeoki.com
X-WR-CALDESC:GalleryCafe OKi 이벤트
REFRESH-INTERVAL;VALUE=DURATION:PT1H
X-Robots-Tag:noindex
X-PUBLISHED-TTL:PT1H
BEGIN:VTIMEZONE
TZID:Asia/Seoul
BEGIN:STANDARD
TZOFFSETFROM:+0900
TZOFFSETTO:+0900
TZNAME:KST
DTSTART:20240101T000000
END:STANDARD
END:VTIMEZONE
BEGIN:VEVENT
DTSTART;VALUE=DATE:20251013
DTEND;VALUE=DATE:20251020
DTSTAMP:20260423T010525
CREATED:20250807T000209Z
LAST-MODIFIED:20251012T004704Z
UID:3111-1760346000-1760864399@www.gallerycafeoki.com
SUMMARY:사진집단 선류 사진전
DESCRIPTION:
URL:http://www.gallerycafeoki.com/event/%eb%8b%a8%ec%b2%b4%ec%a0%84/
END:VEVENT
END:VCALENDAR