BEGIN:VCALENDAR
VERSION:2.0
PRODID:-//GalleryCafe OKi - ECPv6.15.18//NONSGML v1.0//EN
CALSCALE:GREGORIAN
METHOD:PUBLISH
X-ORIGINAL-URL:http://www.gallerycafeoki.com
X-WR-CALDESC:GalleryCafe OKi 이벤트
REFRESH-INTERVAL;VALUE=DURATION:PT1H
X-Robots-Tag:noindex
X-PUBLISHED-TTL:PT1H
BEGIN:VTIMEZONE
TZID:Asia/Seoul
BEGIN:STANDARD
TZOFFSETFROM:+0900
TZOFFSETTO:+0900
TZNAME:KST
DTSTART:20240101T000000
END:STANDARD
END:VTIMEZONE
BEGIN:VEVENT
DTSTART;VALUE=DATE:20250901
DTEND;VALUE=DATE:20250917
DTSTAMP:20260423T023950
CREATED:20251003T064026Z
LAST-MODIFIED:20251003T064113Z
UID:3243-1756717200-1758013199@www.gallerycafeoki.com
SUMMARY:옥키 예술시장 (두번째)
DESCRIPTION:
URL:http://www.gallerycafeoki.com/event/%ec%98%a5%ed%82%a4-%ec%98%88%ec%88%a0%ec%8b%9c%ec%9e%a5-%eb%91%90%eb%b2%88%ec%a7%b8/
END:VEVENT
END:VCALENDAR