BEGIN:VCALENDAR
VERSION:2.0
PRODID:-//GalleryCafe OKi - ECPv6.15.18//NONSGML v1.0//EN
CALSCALE:GREGORIAN
METHOD:PUBLISH
X-ORIGINAL-URL:http://www.gallerycafeoki.com
X-WR-CALDESC:GalleryCafe OKi 이벤트
REFRESH-INTERVAL;VALUE=DURATION:PT1H
X-Robots-Tag:noindex
X-PUBLISHED-TTL:PT1H
BEGIN:VTIMEZONE
TZID:Asia/Seoul
BEGIN:STANDARD
TZOFFSETFROM:+0900
TZOFFSETTO:+0900
TZNAME:KST
DTSTART:20240101T000000
END:STANDARD
END:VTIMEZONE
BEGIN:VEVENT
DTSTART;VALUE=DATE:20250804
DTEND;VALUE=DATE:20250825
DTSTAMP:20260423T041224
CREATED:20250806T235830Z
LAST-MODIFIED:20250806T235830Z
UID:3096-1754298000-1756025999@www.gallerycafeoki.com
SUMMARY:월간옥키54 무관심
DESCRIPTION:  \n월간옥키 기획전시 No.54 <무관심> \n​ \n참여작가 : 김기봉\, 김선우\, 민현홍\, 에그그\, 이진숙\, 이규옥\, 장인주\, 채정은\, 하동수\, 허진 \n기간 : 2025.8.4 (월) ~ 2025.8.23 (토) \n작가와의 만남 : 2025.8.23 (토) 오후4시 \n관람시간 : 월~금 오전11시~오후7시 / 토 오전11시~오후6시 \n장소 : 갤러리카페 옥키 \n주소 : 서울시 중구 삼일대로4길 19 2층 \n문의 : 070-4233-2012
URL:http://www.gallerycafeoki.com/event/%ec%9b%94%ea%b0%84%ec%98%a5%ed%82%a454-%eb%ac%b4%ea%b4%80%ec%8b%ac/
END:VEVENT
END:VCALENDAR