BEGIN:VCALENDAR
VERSION:2.0
PRODID:-//GalleryCafe OKi - ECPv6.15.18//NONSGML v1.0//EN
CALSCALE:GREGORIAN
METHOD:PUBLISH
X-ORIGINAL-URL:http://www.gallerycafeoki.com
X-WR-CALDESC:GalleryCafe OKi 이벤트
REFRESH-INTERVAL;VALUE=DURATION:PT1H
X-Robots-Tag:noindex
X-PUBLISHED-TTL:PT1H
BEGIN:VTIMEZONE
TZID:Asia/Seoul
BEGIN:STANDARD
TZOFFSETFROM:+0900
TZOFFSETTO:+0900
TZNAME:KST
DTSTART:20230101T000000
END:STANDARD
END:VTIMEZONE
BEGIN:VEVENT
DTSTART;VALUE=DATE:20241209
DTEND;VALUE=DATE:20241223
DTSTAMP:20260423T160424
CREATED:20250305T074402Z
LAST-MODIFIED:20250305T074402Z
UID:590-1733734800-1734857999@www.gallerycafeoki.com
SUMMARY:소윤 개인전 _ A natural Overthinker
DESCRIPTION:
URL:http://www.gallerycafeoki.com/event/%ec%86%8c%ec%9c%a4-%ea%b0%9c%ec%9d%b8%ec%a0%84-_-a-natural-overthinker/
LOCATION:옥키 OKi\, 서울특별시 중구 삼일대로4길 19 2층 갤러리카페옥키\, 서울\, seoul\, 04553\, Korea\, Republic of
END:VEVENT
END:VCALENDAR