BEGIN:VCALENDAR
VERSION:2.0
PRODID:-//GalleryCafe OKi - ECPv6.15.18//NONSGML v1.0//EN
CALSCALE:GREGORIAN
METHOD:PUBLISH
X-WR-CALNAME:GalleryCafe OKi
X-ORIGINAL-URL:http://www.gallerycafeoki.com
X-WR-CALDESC:GalleryCafe OKi 이벤트
REFRESH-INTERVAL;VALUE=DURATION:PT1H
X-Robots-Tag:noindex
X-PUBLISHED-TTL:PT1H
BEGIN:VTIMEZONE
TZID:Asia/Seoul
BEGIN:STANDARD
TZOFFSETFROM:+0900
TZOFFSETTO:+0900
TZNAME:KST
DTSTART:20230101T000000
END:STANDARD
END:VTIMEZONE
BEGIN:VEVENT
DTSTART;VALUE=DATE:20241014
DTEND;VALUE=DATE:20241021
DTSTAMP:20260423T184656
CREATED:20250304T052151Z
LAST-MODIFIED:20250304T185138Z
UID:440-1728896400-1729414799@www.gallerycafeoki.com
SUMMARY:[젊은작가전시지원] 김남호
DESCRIPTION:
URL:http://www.gallerycafeoki.com/event/%ec%a0%8a%ec%9d%80%ec%9e%91%ea%b0%80%ec%a0%84%ec%8b%9c%ec%a7%80%ec%9b%90-%ea%b9%80%eb%82%a8%ed%98%b8/
LOCATION:옥키 OKi\, 서울특별시 중구 삼일대로4길 19 2층 갤러리카페옥키\, 서울\, seoul\, 04553\, Korea\, Republic of
END:VEVENT
END:VCALENDAR