BEGIN:VCALENDAR
VERSION:2.0
PRODID:-//GalleryCafe OKi - ECPv6.15.18//NONSGML v1.0//EN
CALSCALE:GREGORIAN
METHOD:PUBLISH
X-ORIGINAL-URL:http://www.gallerycafeoki.com
X-WR-CALDESC:GalleryCafe OKi 이벤트
REFRESH-INTERVAL;VALUE=DURATION:PT1H
X-Robots-Tag:noindex
X-PUBLISHED-TTL:PT1H
BEGIN:VTIMEZONE
TZID:Asia/Seoul
BEGIN:STANDARD
TZOFFSETFROM:+0900
TZOFFSETTO:+0900
TZNAME:KST
DTSTART:20220101T000000
END:STANDARD
END:VTIMEZONE
BEGIN:VEVENT
DTSTART;VALUE=DATE:20230509
DTEND;VALUE=DATE:20230522
DTSTAMP:20260424T215136
CREATED:20250309T025444Z
LAST-MODIFIED:20250309T025444Z
UID:1468-1683622800-1684659599@www.gallerycafeoki.com
SUMMARY:박수빈
DESCRIPTION:
URL:http://www.gallerycafeoki.com/event/%eb%b0%95%ec%88%98%eb%b9%88/
END:VEVENT
END:VCALENDAR