BEGIN:VCALENDAR
VERSION:2.0
PRODID:-//GalleryCafe OKi - ECPv6.15.18//NONSGML v1.0//EN
CALSCALE:GREGORIAN
METHOD:PUBLISH
X-ORIGINAL-URL:http://www.gallerycafeoki.com
X-WR-CALDESC:GalleryCafe OKi 이벤트
REFRESH-INTERVAL;VALUE=DURATION:PT1H
X-Robots-Tag:noindex
X-PUBLISHED-TTL:PT1H
BEGIN:VTIMEZONE
TZID:Asia/Seoul
BEGIN:STANDARD
TZOFFSETFROM:+0900
TZOFFSETTO:+0900
TZNAME:KST
DTSTART:20210101T000000
END:STANDARD
END:VTIMEZONE
BEGIN:VEVENT
DTSTART;VALUE=DATE:20220916
DTEND;VALUE=DATE:20220926
DTSTAMP:20260425T103116
CREATED:20250309T065203Z
LAST-MODIFIED:20250309T065226Z
UID:1796-1663318800-1664096399@www.gallerycafeoki.com
SUMMARY:마크씨 사진전 #3 in these days 어떤날들
DESCRIPTION:
URL:http://www.gallerycafeoki.com/event/%eb%a7%88%ed%81%ac%ec%94%a8-%ec%82%ac%ec%a7%84%ec%a0%84-3-in-these-days-%ec%96%b4%eb%96%a4%eb%82%a0%eb%93%a4/
END:VEVENT
END:VCALENDAR