BEGIN:VCALENDAR
VERSION:2.0
PRODID:-//GalleryCafe OKi - ECPv6.15.18//NONSGML v1.0//EN
CALSCALE:GREGORIAN
METHOD:PUBLISH
X-WR-CALNAME:GalleryCafe OKi
X-ORIGINAL-URL:http://www.gallerycafeoki.com
X-WR-CALDESC:GalleryCafe OKi 이벤트
REFRESH-INTERVAL;VALUE=DURATION:PT1H
X-Robots-Tag:noindex
X-PUBLISHED-TTL:PT1H
BEGIN:VTIMEZONE
TZID:Asia/Seoul
BEGIN:STANDARD
TZOFFSETFROM:+0900
TZOFFSETTO:+0900
TZNAME:KST
DTSTART:20210101T000000
END:STANDARD
END:VTIMEZONE
BEGIN:VEVENT
DTSTART;VALUE=DATE:20220822
DTEND;VALUE=DATE:20220908
DTSTAMP:20260425T102637
CREATED:20250309T065536Z
LAST-MODIFIED:20250309T065536Z
UID:1821-1661158800-1662541199@www.gallerycafeoki.com
SUMMARY:이리라 _ 웃을 때 사용되는 안면근들이 점점 우린 닮아가니까 展
DESCRIPTION:
URL:http://www.gallerycafeoki.com/event/%ec%9d%b4%eb%a6%ac%eb%9d%bc-_-%ec%9b%83%ec%9d%84-%eb%95%8c-%ec%82%ac%ec%9a%a9%eb%90%98%eb%8a%94-%ec%95%88%eb%a9%b4%ea%b7%bc%eb%93%a4%ec%9d%b4-%ec%a0%90%ec%a0%90-%ec%9a%b0%eb%a6%b0-%eb%8b%ae%ec%95%84/
LOCATION:옥키 OKi\, 서울특별시 중구 삼일대로4길 19 2층 갤러리카페옥키\, 서울\, seoul\, 04553\, Korea\, Republic of
END:VEVENT
END:VCALENDAR