BEGIN:VCALENDAR
VERSION:2.0
PRODID:-//GalleryCafe OKi - ECPv6.15.18//NONSGML v1.0//EN
CALSCALE:GREGORIAN
METHOD:PUBLISH
X-ORIGINAL-URL:http://www.gallerycafeoki.com
X-WR-CALDESC:GalleryCafe OKi 이벤트
REFRESH-INTERVAL;VALUE=DURATION:PT1H
X-Robots-Tag:noindex
X-PUBLISHED-TTL:PT1H
BEGIN:VTIMEZONE
TZID:Asia/Seoul
BEGIN:STANDARD
TZOFFSETFROM:+0900
TZOFFSETTO:+0900
TZNAME:KST
DTSTART:20210101T000000
END:STANDARD
END:VTIMEZONE
BEGIN:VEVENT
DTSTART;VALUE=DATE:20220808
DTEND;VALUE=DATE:20220822
DTSTAMP:20260425T130802
CREATED:20260323T141718Z
LAST-MODIFIED:20260323T141718Z
UID:3542-1659949200-1661072399@www.gallerycafeoki.com
SUMMARY:Re: / 누군가의어떤여행 / SPAIN IN MY TIME
DESCRIPTION:
URL:http://www.gallerycafeoki.com/event/re-%eb%88%84%ea%b5%b0%ea%b0%80%ec%9d%98%ec%96%b4%eb%96%a4%ec%97%ac%ed%96%89-spain-in-my-time/
LOCATION:옥키 OKi\, 서울특별시 중구 삼일대로4길 19 2층 갤러리카페옥키\, 서울\, seoul\, 04553\, Korea\, Republic of
END:VEVENT
END:VCALENDAR