BEGIN:VCALENDAR
VERSION:2.0
PRODID:-//GalleryCafe OKi - ECPv6.15.18//NONSGML v1.0//EN
CALSCALE:GREGORIAN
METHOD:PUBLISH
X-WR-CALNAME:GalleryCafe OKi
X-ORIGINAL-URL:http://www.gallerycafeoki.com
X-WR-CALDESC:GalleryCafe OKi 이벤트
REFRESH-INTERVAL;VALUE=DURATION:PT1H
X-Robots-Tag:noindex
X-PUBLISHED-TTL:PT1H
BEGIN:VTIMEZONE
TZID:Asia/Seoul
BEGIN:STANDARD
TZOFFSETFROM:+0900
TZOFFSETTO:+0900
TZNAME:KST
DTSTART:20200101T000000
END:STANDARD
END:VTIMEZONE
BEGIN:VEVENT
DTSTART;VALUE=DATE:20210927
DTEND;VALUE=DATE:20211011
DTSTAMP:20260426T053331
CREATED:20260401T145817Z
LAST-MODIFIED:20260401T145817Z
UID:3713-1632733200-1633856399@www.gallerycafeoki.com
SUMMARY:월간옥키 기획전시 No.31 [여름하늘과 그림자]
DESCRIPTION:
URL:http://www.gallerycafeoki.com/event/%ec%9b%94%ea%b0%84%ec%98%a5%ed%82%a4-%ea%b8%b0%ed%9a%8d%ec%a0%84%ec%8b%9c-no-31-%ec%97%ac%eb%a6%84%ed%95%98%eb%8a%98%ea%b3%bc-%ea%b7%b8%eb%a6%bc%ec%9e%90/
LOCATION:옥키 OKi\, 서울특별시 중구 삼일대로4길 19 2층 갤러리카페옥키\, 서울\, seoul\, 04553\, Korea\, Republic of
END:VEVENT
END:VCALENDAR