BEGIN:VCALENDAR
VERSION:2.0
PRODID:-//GalleryCafe OKi - ECPv6.15.18//NONSGML v1.0//EN
CALSCALE:GREGORIAN
METHOD:PUBLISH
X-WR-CALNAME:GalleryCafe OKi
X-ORIGINAL-URL:http://www.gallerycafeoki.com
X-WR-CALDESC:GalleryCafe OKi 이벤트
REFRESH-INTERVAL;VALUE=DURATION:PT1H
X-Robots-Tag:noindex
X-PUBLISHED-TTL:PT1H
BEGIN:VTIMEZONE
TZID:Asia/Seoul
BEGIN:STANDARD
TZOFFSETFROM:+0900
TZOFFSETTO:+0900
TZNAME:KST
DTSTART:20200101T000000
END:STANDARD
END:VTIMEZONE
BEGIN:VEVENT
DTSTART;VALUE=DATE:20210426
DTEND;VALUE=DATE:20210509
DTSTAMP:20260426T111340
CREATED:20260408T235848Z
LAST-MODIFIED:20260408T235848Z
UID:4068-1619395200-1620518399@www.gallerycafeoki.com
SUMMARY:정원진 & 고선영_일상 그 소중함에 대하여
DESCRIPTION:
URL:http://www.gallerycafeoki.com/event/%ec%a0%95%ec%9b%90%ec%a7%84-%ea%b3%a0%ec%84%a0%ec%98%81_%ec%9d%bc%ec%83%81-%ea%b7%b8-%ec%86%8c%ec%a4%91%ed%95%a8%ec%97%90-%eb%8c%80%ed%95%98%ec%97%ac/
LOCATION:옥키 OKi\, 서울특별시 중구 삼일대로4길 19 2층 갤러리카페옥키\, 서울\, seoul\, 04553\, Korea\, Republic of
END:VEVENT
END:VCALENDAR