BEGIN:VCALENDAR
VERSION:2.0
PRODID:-//GalleryCafe OKi - ECPv6.15.18//NONSGML v1.0//EN
CALSCALE:GREGORIAN
METHOD:PUBLISH
X-WR-CALNAME:GalleryCafe OKi
X-ORIGINAL-URL:http://www.gallerycafeoki.com
X-WR-CALDESC:GalleryCafe OKi 이벤트
REFRESH-INTERVAL;VALUE=DURATION:PT1H
X-Robots-Tag:noindex
X-PUBLISHED-TTL:PT1H
BEGIN:VTIMEZONE
TZID:Asia/Seoul
BEGIN:STANDARD
TZOFFSETFROM:+0900
TZOFFSETTO:+0900
TZNAME:KST
DTSTART:20240101T000000
END:STANDARD
END:VTIMEZONE
BEGIN:VEVENT
DTSTART;VALUE=DATE:20250917
DTEND;VALUE=DATE:20251002
DTSTAMP:20260422T230532
CREATED:20251003T064204Z
LAST-MODIFIED:20251003T064204Z
UID:3255-1758099600-1759309199@www.gallerycafeoki.com
SUMMARY:김태희 초대전
DESCRIPTION:
URL:http://www.gallerycafeoki.com/event/%ea%b9%80%ed%83%9c%ed%9d%ac-%ec%b4%88%eb%8c%80%ec%a0%84/
END:VEVENT
BEGIN:VEVENT
DTSTART;VALUE=DATE:20251013
DTEND;VALUE=DATE:20251020
DTSTAMP:20260422T230532
CREATED:20250807T000209Z
LAST-MODIFIED:20251012T004704Z
UID:3111-1760346000-1760864399@www.gallerycafeoki.com
SUMMARY:사진집단 선류 사진전
DESCRIPTION:
URL:http://www.gallerycafeoki.com/event/%eb%8b%a8%ec%b2%b4%ec%a0%84/
END:VEVENT
BEGIN:VEVENT
DTSTART;VALUE=DATE:20251020
DTEND;VALUE=DATE:20251103
DTSTAMP:20260422T230532
CREATED:20251019T043038Z
LAST-MODIFIED:20251019T043038Z
UID:3318-1760950800-1762073999@www.gallerycafeoki.com
SUMMARY:월간옥키 No.55 수확
DESCRIPTION:
URL:http://www.gallerycafeoki.com/event/%ec%9b%94%ea%b0%84%ec%98%a5%ed%82%a4-no-55-%ec%88%98%ed%99%95/
END:VEVENT
END:VCALENDAR