BEGIN:VCALENDAR
VERSION:2.0
PRODID:-//GalleryCafe OKi - ECPv6.15.18//NONSGML v1.0//EN
CALSCALE:GREGORIAN
METHOD:PUBLISH
X-WR-CALNAME:GalleryCafe OKi
X-ORIGINAL-URL:http://www.gallerycafeoki.com
X-WR-CALDESC:GalleryCafe OKi 이벤트
REFRESH-INTERVAL;VALUE=DURATION:PT1H
X-Robots-Tag:noindex
X-PUBLISHED-TTL:PT1H
BEGIN:VTIMEZONE
TZID:Asia/Seoul
BEGIN:STANDARD
TZOFFSETFROM:+0900
TZOFFSETTO:+0900
TZNAME:KST
DTSTART:20240101T000000
END:STANDARD
END:VTIMEZONE
BEGIN:VEVENT
DTSTART;VALUE=DATE:20250413
DTEND;VALUE=DATE:20250512
DTSTAMP:20260423T070200
CREATED:20250413T140228Z
LAST-MODIFIED:20250413T140228Z
UID:2418-1744534800-1746953999@www.gallerycafeoki.com
SUMMARY:서은미 초대전 _ 관계인구
DESCRIPTION:
URL:http://www.gallerycafeoki.com/event/%ec%84%9c%ec%9d%80%eb%af%b8-%ec%b4%88%eb%8c%80%ec%a0%84-_-%ea%b4%80%ea%b3%84%ec%9d%b8%ea%b5%ac/
END:VEVENT
BEGIN:VEVENT
DTSTART;VALUE=DATE:20250512
DTEND;VALUE=DATE:20250519
DTSTAMP:20260423T070200
CREATED:20250511T135003Z
LAST-MODIFIED:20250511T135212Z
UID:2983-1747040400-1747558799@www.gallerycafeoki.com
SUMMARY:2025 동그라미 신인전
DESCRIPTION:
URL:http://www.gallerycafeoki.com/event/2025-%eb%8f%99%ea%b7%b8%eb%9d%bc%eb%af%b8-%ec%8b%a0%ec%9d%b8%ec%a0%84/
END:VEVENT
BEGIN:VEVENT
DTSTART;VALUE=DATE:20250519
DTEND;VALUE=DATE:20250602
DTSTAMP:20260423T070200
CREATED:20250315T171435Z
LAST-MODIFIED:20250518T223024Z
UID:2130-1747645200-1748768399@www.gallerycafeoki.com
SUMMARY:해정 개인전 Come together 사람이 불러오는 풍경
DESCRIPTION:  \n[여행자의 노트 No.28] 해정 개인전 Come together 사람이 불러오는 풍경
URL:http://www.gallerycafeoki.com/event/%ed%95%b4%ec%a0%95/
LOCATION:옥키 OKi\, 서울특별시 중구 삼일대로4길 19 2층 갤러리카페옥키\, 서울\, seoul\, 04553\, Korea\, Republic of
END:VEVENT
END:VCALENDAR