BEGIN:VCALENDAR
VERSION:2.0
PRODID:-//GalleryCafe OKi - ECPv6.15.18//NONSGML v1.0//EN
CALSCALE:GREGORIAN
METHOD:PUBLISH
X-ORIGINAL-URL:http://www.gallerycafeoki.com
X-WR-CALDESC:GalleryCafe OKi 이벤트
REFRESH-INTERVAL;VALUE=DURATION:PT1H
X-Robots-Tag:noindex
X-PUBLISHED-TTL:PT1H
BEGIN:VTIMEZONE
TZID:Asia/Seoul
BEGIN:STANDARD
TZOFFSETFROM:+0900
TZOFFSETTO:+0900
TZNAME:KST
DTSTART:20220101T000000
END:STANDARD
END:VTIMEZONE
BEGIN:VEVENT
DTSTART;TZID=Asia/Seoul:20230424T170000
DTEND;TZID=Asia/Seoul:20230507T020000
DTSTAMP:20260424T215146
CREATED:20250304T031803Z
LAST-MODIFIED:20250304T031803Z
UID:269-1682355600-1683424800@www.gallerycafeoki.com
SUMMARY:조한샘&김광석 _ 설렘\, 여행의 오브제
DESCRIPTION:
URL:http://www.gallerycafeoki.com/event/%ec%a1%b0%ed%95%9c%ec%83%98%ea%b9%80%ea%b4%91%ec%84%9d-_-%ec%84%a4%eb%a0%98-%ec%97%ac%ed%96%89%ec%9d%98-%ec%98%a4%eb%b8%8c%ec%a0%9c/
END:VEVENT
BEGIN:VEVENT
DTSTART;VALUE=DATE:20230509
DTEND;VALUE=DATE:20230522
DTSTAMP:20260424T215146
CREATED:20250309T025444Z
LAST-MODIFIED:20250309T025444Z
UID:1468-1683622800-1684659599@www.gallerycafeoki.com
SUMMARY:박수빈
DESCRIPTION:
URL:http://www.gallerycafeoki.com/event/%eb%b0%95%ec%88%98%eb%b9%88/
END:VEVENT
BEGIN:VEVENT
DTSTART;VALUE=DATE:20230522
DTEND;VALUE=DATE:20230605
DTSTAMP:20260424T215146
CREATED:20250309T013934Z
LAST-MODIFIED:20250309T013934Z
UID:1442-1684746000-1685869199@www.gallerycafeoki.com
SUMMARY:월간옥키 기획전시41
DESCRIPTION:
URL:http://www.gallerycafeoki.com/event/%ec%9b%94%ea%b0%84%ec%98%a5%ed%82%a4-%ea%b8%b0%ed%9a%8d%ec%a0%84%ec%8b%9c41/
END:VEVENT
END:VCALENDAR