BEGIN:VCALENDAR
VERSION:2.0
PRODID:-//GalleryCafe OKi - ECPv6.15.18//NONSGML v1.0//EN
CALSCALE:GREGORIAN
METHOD:PUBLISH
X-ORIGINAL-URL:http://www.gallerycafeoki.com
X-WR-CALDESC:GalleryCafe OKi 이벤트
REFRESH-INTERVAL;VALUE=DURATION:PT1H
X-Robots-Tag:noindex
X-PUBLISHED-TTL:PT1H
BEGIN:VTIMEZONE
TZID:Asia/Seoul
BEGIN:STANDARD
TZOFFSETFROM:+0900
TZOFFSETTO:+0900
TZNAME:KST
DTSTART:20210101T000000
END:STANDARD
END:VTIMEZONE
BEGIN:VEVENT
DTSTART;VALUE=DATE:20221121
DTEND;VALUE=DATE:20221205
DTSTAMP:20260425T035215
CREATED:20250309T035537Z
LAST-MODIFIED:20250309T035537Z
UID:1611-1669021200-1670144399@www.gallerycafeoki.com
SUMMARY:레시픽 Vol.13 부산 출판 기념전
DESCRIPTION:
URL:http://www.gallerycafeoki.com/event/%eb%a0%88%ec%8b%9c%ed%94%bd-vol-13-%eb%b6%80%ec%82%b0-%ec%b6%9c%ed%8c%90-%ea%b8%b0%eb%85%90%ec%a0%84/
LOCATION:옥키 OKi\, 서울특별시 중구 삼일대로4길 19 2층 갤러리카페옥키\, 서울\, seoul\, 04553\, Korea\, Republic of
END:VEVENT
BEGIN:VEVENT
DTSTART;VALUE=DATE:20221209
DTEND;VALUE=DATE:20221219
DTSTAMP:20260425T035215
CREATED:20250309T035055Z
LAST-MODIFIED:20250309T035123Z
UID:1574-1670576400-1671353999@www.gallerycafeoki.com
SUMMARY:권영주 _ a moment of Metta
DESCRIPTION:
URL:http://www.gallerycafeoki.com/event/%ea%b6%8c%ec%98%81%ec%a3%bc-_-a-moment-of-metta/
END:VEVENT
BEGIN:VEVENT
DTSTART;VALUE=DATE:20221219
DTEND;VALUE=DATE:20230102
DTSTAMP:20260425T035215
CREATED:20250309T034343Z
LAST-MODIFIED:20250309T034343Z
UID:1557-1671440400-1672563599@www.gallerycafeoki.com
SUMMARY:월간옥키 기획전시 39
DESCRIPTION:
URL:http://www.gallerycafeoki.com/event/%ec%9b%94%ea%b0%84%ec%98%a5%ed%82%a4-%ea%b8%b0%ed%9a%8d%ec%a0%84%ec%8b%9c-39/
LOCATION:옥키 OKi\, 서울특별시 중구 삼일대로4길 19 2층 갤러리카페옥키\, 서울\, seoul\, 04553\, Korea\, Republic of
END:VEVENT
END:VCALENDAR