BEGIN:VCALENDAR
VERSION:2.0
PRODID:-//GalleryCafe OKi - ECPv6.15.18//NONSGML v1.0//EN
CALSCALE:GREGORIAN
METHOD:PUBLISH
X-WR-CALNAME:GalleryCafe OKi
X-ORIGINAL-URL:http://www.gallerycafeoki.com
X-WR-CALDESC:GalleryCafe OKi 이벤트
REFRESH-INTERVAL;VALUE=DURATION:PT1H
X-Robots-Tag:noindex
X-PUBLISHED-TTL:PT1H
BEGIN:VTIMEZONE
TZID:Asia/Seoul
BEGIN:STANDARD
TZOFFSETFROM:+0900
TZOFFSETTO:+0900
TZNAME:KST
DTSTART:20210101T000000
END:STANDARD
END:VTIMEZONE
BEGIN:VEVENT
DTSTART;VALUE=DATE:20221107
DTEND;VALUE=DATE:20221121
DTSTAMP:20260425T053217
CREATED:20250309T041625Z
LAST-MODIFIED:20250309T042242Z
UID:1648-1667811600-1668934799@www.gallerycafeoki.com
SUMMARY:월간옥키 기획전시 No.38
DESCRIPTION:
URL:http://www.gallerycafeoki.com/event/%ec%9b%94%ea%b0%84%ec%98%a5%ed%82%a4-%ea%b8%b0%ed%9a%8d%ec%a0%84%ec%8b%9c-no-38/
END:VEVENT
BEGIN:VEVENT
DTSTART;VALUE=DATE:20221121
DTEND;VALUE=DATE:20221205
DTSTAMP:20260425T053217
CREATED:20250309T035537Z
LAST-MODIFIED:20250309T035537Z
UID:1611-1669021200-1670144399@www.gallerycafeoki.com
SUMMARY:레시픽 Vol.13 부산 출판 기념전
DESCRIPTION:
URL:http://www.gallerycafeoki.com/event/%eb%a0%88%ec%8b%9c%ed%94%bd-vol-13-%eb%b6%80%ec%82%b0-%ec%b6%9c%ed%8c%90-%ea%b8%b0%eb%85%90%ec%a0%84/
LOCATION:옥키 OKi\, 서울특별시 중구 삼일대로4길 19 2층 갤러리카페옥키\, 서울\, seoul\, 04553\, Korea\, Republic of
END:VEVENT
END:VCALENDAR