BEGIN:VCALENDAR
VERSION:2.0
PRODID:-//GalleryCafe OKi - ECPv6.15.18//NONSGML v1.0//EN
CALSCALE:GREGORIAN
METHOD:PUBLISH
X-ORIGINAL-URL:http://www.gallerycafeoki.com
X-WR-CALDESC:GalleryCafe OKi 이벤트
REFRESH-INTERVAL;VALUE=DURATION:PT1H
X-Robots-Tag:noindex
X-PUBLISHED-TTL:PT1H
BEGIN:VTIMEZONE
TZID:Asia/Seoul
BEGIN:STANDARD
TZOFFSETFROM:+0900
TZOFFSETTO:+0900
TZNAME:KST
DTSTART:20210101T000000
END:STANDARD
END:VTIMEZONE
BEGIN:VEVENT
DTSTART;VALUE=DATE:20220613
DTEND;VALUE=DATE:20220627
DTSTAMP:20260425T132812
CREATED:20250416T210435Z
LAST-MODIFIED:20250416T210435Z
UID:2542-1655110800-1656233999@www.gallerycafeoki.com
SUMMARY:[여행자의노트No.27] 김민준_Travel is open door
DESCRIPTION:
URL:http://www.gallerycafeoki.com/event/%ec%97%ac%ed%96%89%ec%9e%90%ec%9d%98%eb%85%b8%ed%8a%b8no-27-%ea%b9%80%eb%af%bc%ec%a4%80_travel-is-open-door/
END:VEVENT
BEGIN:VEVENT
DTSTART;VALUE=DATE:20220627
DTEND;VALUE=DATE:20220704
DTSTAMP:20260425T132812
CREATED:20250416T205614Z
LAST-MODIFIED:20250416T205614Z
UID:2506-1656320400-1656838799@www.gallerycafeoki.com
SUMMARY:[젊은 작가 전시 지원] 안상훈 _ 시선 안의 시간들
DESCRIPTION:
URL:http://www.gallerycafeoki.com/event/%ec%a0%8a%ec%9d%80-%ec%9e%91%ea%b0%80-%ec%a0%84%ec%8b%9c-%ec%a7%80%ec%9b%90-%ec%95%88%ec%83%81%ed%9b%88-_-%ec%8b%9c%ec%84%a0-%ec%95%88%ec%9d%98-%ec%8b%9c%ea%b0%84%eb%93%a4/
END:VEVENT
END:VCALENDAR