BEGIN:VCALENDAR
VERSION:2.0
PRODID:-//GalleryCafe OKi - ECPv6.15.18//NONSGML v1.0//EN
CALSCALE:GREGORIAN
METHOD:PUBLISH
X-WR-CALNAME:GalleryCafe OKi
X-ORIGINAL-URL:http://www.gallerycafeoki.com
X-WR-CALDESC:GalleryCafe OKi 이벤트
REFRESH-INTERVAL;VALUE=DURATION:PT1H
X-Robots-Tag:noindex
X-PUBLISHED-TTL:PT1H
BEGIN:VTIMEZONE
TZID:Asia/Seoul
BEGIN:STANDARD
TZOFFSETFROM:+0900
TZOFFSETTO:+0900
TZNAME:KST
DTSTART:20210101T000000
END:STANDARD
END:VTIMEZONE
BEGIN:VEVENT
DTSTART;VALUE=DATE:20220204
DTEND;VALUE=DATE:20220220
DTSTAMP:20260425T201658
CREATED:20250501T223341Z
LAST-MODIFIED:20250501T223341Z
UID:2916-1643965200-1645261199@www.gallerycafeoki.com
SUMMARY:새로고침 - 최성은\, 도윤진\, 윤채림\, 송수빈\, 김예진
DESCRIPTION:photography by Hur Jin
URL:http://www.gallerycafeoki.com/event/%ec%83%88%eb%a1%9c%ea%b3%a0%ec%b9%a8-%ec%b5%9c%ec%84%b1%ec%9d%80-%eb%8f%84%ec%9c%a4%ec%a7%84-%ec%9c%a4%ec%b1%84%eb%a6%bc-%ec%86%a1%ec%88%98%eb%b9%88-%ea%b9%80%ec%98%88%ec%a7%84/
END:VEVENT
BEGIN:VEVENT
DTSTART;VALUE=DATE:20220221
DTEND;VALUE=DATE:20220307
DTSTAMP:20260425T201658
CREATED:20250501T222451Z
LAST-MODIFIED:20250501T222451Z
UID:2895-1645434000-1646557199@www.gallerycafeoki.com
SUMMARY:[젊은작가전시지원] 이루의 사진전 _ BACK TO THE SYDNEY AGAIN
DESCRIPTION:
URL:http://www.gallerycafeoki.com/event/%ec%a0%8a%ec%9d%80%ec%9e%91%ea%b0%80%ec%a0%84%ec%8b%9c%ec%a7%80%ec%9b%90-%ec%9d%b4%eb%a3%a8%ec%9d%98-%ec%82%ac%ec%a7%84%ec%a0%84-_-back-to-the-sydney-again/
END:VEVENT
END:VCALENDAR