BEGIN:VCALENDAR
VERSION:2.0
PRODID:-//GalleryCafe OKi - ECPv6.15.18//NONSGML v1.0//EN
CALSCALE:GREGORIAN
METHOD:PUBLISH
X-ORIGINAL-URL:http://www.gallerycafeoki.com
X-WR-CALDESC:GalleryCafe OKi 이벤트
REFRESH-INTERVAL;VALUE=DURATION:PT1H
X-Robots-Tag:noindex
X-PUBLISHED-TTL:PT1H
BEGIN:VTIMEZONE
TZID:Asia/Seoul
BEGIN:STANDARD
TZOFFSETFROM:+0900
TZOFFSETTO:+0900
TZNAME:KST
DTSTART:20200101T000000
END:STANDARD
END:VTIMEZONE
BEGIN:VEVENT
DTSTART;VALUE=DATE:20210524
DTEND;VALUE=DATE:20210606
DTSTAMP:20260426T100233
CREATED:20260406T235936Z
LAST-MODIFIED:20260406T235936Z
UID:3977-1621814400-1622937599@www.gallerycafeoki.com
SUMMARY:장인주 개인전 [서울일상 : 코로나19 서울2020]
DESCRIPTION:
URL:http://www.gallerycafeoki.com/event/%ec%9e%a5%ec%9d%b8%ec%a3%bc-%ea%b0%9c%ec%9d%b8%ec%a0%84-%ec%84%9c%ec%9a%b8%ec%9d%bc%ec%83%81-%ec%bd%94%eb%a1%9c%eb%82%9819-%ec%84%9c%ec%9a%b82020/
LOCATION:옥키 OKi\, 서울특별시 중구 삼일대로4길 19 2층 갤러리카페옥키\, 서울\, seoul\, 04553\, Korea\, Republic of
END:VEVENT
BEGIN:VEVENT
DTSTART;VALUE=DATE:20210607
DTEND;VALUE=DATE:20210620
DTSTAMP:20260426T100233
CREATED:20260405T045621Z
LAST-MODIFIED:20260405T045621Z
UID:3895-1623024000-1624147199@www.gallerycafeoki.com
SUMMARY:배진주 _ 해변의 산장
DESCRIPTION:
URL:http://www.gallerycafeoki.com/event/%eb%b0%b0%ec%a7%84%ec%a3%bc-_-%ed%95%b4%eb%b3%80%ec%9d%98-%ec%82%b0%ec%9e%a5/
LOCATION:옥키 OKi\, 서울특별시 중구 삼일대로4길 19 2층 갤러리카페옥키\, 서울\, seoul\, 04553\, Korea\, Republic of
END:VEVENT
BEGIN:VEVENT
DTSTART;VALUE=DATE:20210621
DTEND;VALUE=DATE:20210712
DTSTAMP:20260426T100233
CREATED:20260403T150048Z
LAST-MODIFIED:20260403T150048Z
UID:3844-1624266000-1625993999@www.gallerycafeoki.com
SUMMARY:월간옥키 기획전시 No.30 [슬기로운 실내생활]
DESCRIPTION:
URL:http://www.gallerycafeoki.com/event/%ec%9b%94%ea%b0%84%ec%98%a5%ed%82%a4-%ea%b8%b0%ed%9a%8d%ec%a0%84%ec%8b%9c-no-30-%ec%8a%ac%ea%b8%b0%eb%a1%9c%ec%9a%b4-%ec%8b%a4%eb%82%b4%ec%83%9d%ed%99%9c/
LOCATION:옥키 OKi\, 서울특별시 중구 삼일대로4길 19 2층 갤러리카페옥키\, 서울\, seoul\, 04553\, Korea\, Republic of
END:VEVENT
END:VCALENDAR