BEGIN:VCALENDAR
VERSION:2.0
PRODID:-//GalleryCafe OKi - ECPv6.15.18//NONSGML v1.0//EN
CALSCALE:GREGORIAN
METHOD:PUBLISH
X-ORIGINAL-URL:http://www.gallerycafeoki.com
X-WR-CALDESC:GalleryCafe OKi 이벤트
REFRESH-INTERVAL;VALUE=DURATION:PT1H
X-Robots-Tag:noindex
X-PUBLISHED-TTL:PT1H
BEGIN:VTIMEZONE
TZID:Asia/Seoul
BEGIN:STANDARD
TZOFFSETFROM:+0900
TZOFFSETTO:+0900
TZNAME:KST
DTSTART:20200101T000000
END:STANDARD
END:VTIMEZONE
BEGIN:VEVENT
DTSTART;VALUE=DATE:20210222
DTEND;VALUE=DATE:20210314
DTSTAMP:20260426T123006
CREATED:20260414T233838Z
LAST-MODIFIED:20260414T233838Z
UID:4224-1613952000-1615679999@www.gallerycafeoki.com
SUMMARY:[여행자의노트 no.26] 황윤하 : 야경기행 _ 세상의 밤을 담다
DESCRIPTION:
URL:http://www.gallerycafeoki.com/event/%ec%97%ac%ed%96%89%ec%9e%90%ec%9d%98%eb%85%b8%ed%8a%b8-no-26-%ed%99%a9%ec%9c%a4%ed%95%98-%ec%95%bc%ea%b2%bd%ea%b8%b0%ed%96%89-_-%ec%84%b8%ec%83%81%ec%9d%98-%eb%b0%a4%ec%9d%84-%eb%8b%b4%eb%8b%a4/
LOCATION:옥키 OKi\, 서울특별시 중구 삼일대로4길 19 2층 갤러리카페옥키\, 서울\, seoul\, 04553\, Korea\, Republic of
END:VEVENT
BEGIN:VEVENT
DTSTART;VALUE=DATE:20210329
DTEND;VALUE=DATE:20210411
DTSTAMP:20260426T123007
CREATED:20260412T103452Z
LAST-MODIFIED:20260412T103514Z
UID:4143-1616976000-1618099199@www.gallerycafeoki.com
SUMMARY:월간옥키 기획전 No.29
DESCRIPTION:
URL:http://www.gallerycafeoki.com/event/%ec%9b%94%ea%b0%84%ec%98%a5%ed%82%a4-%ea%b8%b0%ed%9a%8d%ec%a0%84-no-29/
END:VEVENT
END:VCALENDAR